BEGIN:VCALENDAR
VERSION:2.0
PRODID:-//RSIFEO - ECPv6.15.20//NONSGML v1.0//EN
CALSCALE:GREGORIAN
METHOD:PUBLISH
X-ORIGINAL-URL:https://rsifeo.org
X-WR-CALDESC:Évènements pour RSIFEO
REFRESH-INTERVAL;VALUE=DURATION:PT1H
X-Robots-Tag:noindex
X-PUBLISHED-TTL:PT1H
BEGIN:VTIMEZONE
TZID:America/Toronto
BEGIN:DAYLIGHT
TZOFFSETFROM:-0500
TZOFFSETTO:-0400
TZNAME:EDT
DTSTART:20230312T070000
END:DAYLIGHT
BEGIN:STANDARD
TZOFFSETFROM:-0400
TZOFFSETTO:-0500
TZNAME:EST
DTSTART:20231105T060000
END:STANDARD
BEGIN:DAYLIGHT
TZOFFSETFROM:-0500
TZOFFSETTO:-0400
TZNAME:EDT
DTSTART:20240310T070000
END:DAYLIGHT
BEGIN:STANDARD
TZOFFSETFROM:-0400
TZOFFSETTO:-0500
TZNAME:EST
DTSTART:20241103T060000
END:STANDARD
BEGIN:DAYLIGHT
TZOFFSETFROM:-0500
TZOFFSETTO:-0400
TZNAME:EDT
DTSTART:20250309T070000
END:DAYLIGHT
BEGIN:STANDARD
TZOFFSETFROM:-0400
TZOFFSETTO:-0500
TZNAME:EST
DTSTART:20251102T060000
END:STANDARD
END:VTIMEZONE
BEGIN:VEVENT
DTSTART;TZID=America/Toronto:20240125T140000
DTEND;TZID=America/Toronto:20240125T140000
DTSTAMP:20260421T222123
CREATED:20240113T030608Z
LAST-MODIFIED:20240113T030609Z
UID:3491-1706191200-1706191200@rsifeo.org
SUMMARY:Séance de recrutement du CECCE\, 25 janvier
DESCRIPTION:Séance de recrutement du CECCE en partenariat avec le CSC Vanier\nRejoignez-nous pour une séance de recrutement du Conseil des écoles catholiques du Centre-Est (CECCE). Venez rencontrer notre équipe dynamique et découvrir les opportunités de carrière passionnantes qui vous attendent. \nDate: jeudi 25 janvier 2024 \nHeure: 14h00 \nAdresse: 270 Marier Avenue\, Ottawa\, ON / 1er étage \nQue vous soyez enseignant\, personnel de soutien ou professionnel de l’éducation\, il aura des postes stimulants qui correspondent à vos compétences et à vos intérêts. Rejoignez-nous pour discuter des opportunités de carrière et en apprendre davantage sur l’environnement de travail inclusif et bienveillant du CECCE. \nNe manquez pas cette occasion de faire partie d’une équipe qui valorise l’excellence\, l’innovation et le bien-être de ses membres. Inscrivez-vous dès maintenant pour profiter des opportunités de carrière qui vous attendent. Préparez-vous à ouvrir de nouvelles portes vers un avenir prometteur dans le domaine de l’éducation. \nJe m’inscris: \n  \n  \n 
URL:https://rsifeo.org/evenement/seance-de-recrutement-du-cecce/
LOCATION:270 Marier Avenue\, Ottawa\, ON / 1er étage\, 270 Marier Avenue\, Ottawa\, ON / 1er étage\, Ottawa\, ON\, K1L 5P8\, Canada
CATEGORIES:Employabilité
ATTACH;FMTTYPE=image/jpeg:https://rsifeo.org/wp-content/uploads/2024/01/Seance-de-recrutement-du-CECCE.jpg
END:VEVENT
END:VCALENDAR